BEGIN:VCALENDAR
VERSION:2.0
PRODID:-//Villa Charities - ECPv6.15.20//NONSGML v1.0//EN
CALSCALE:GREGORIAN
METHOD:PUBLISH
X-WR-CALNAME:Villa Charities
X-ORIGINAL-URL:https://wp.villacharities.com
X-WR-CALDESC:Events for Villa Charities
REFRESH-INTERVAL;VALUE=DURATION:PT1H
X-Robots-Tag:noindex
X-PUBLISHED-TTL:PT1H
BEGIN:VTIMEZONE
TZID:America/Toronto
BEGIN:DAYLIGHT
TZOFFSETFROM:-0500
TZOFFSETTO:-0400
TZNAME:EDT
DTSTART:20250309T070000
END:DAYLIGHT
BEGIN:STANDARD
TZOFFSETFROM:-0400
TZOFFSETTO:-0500
TZNAME:EST
DTSTART:20251102T060000
END:STANDARD
BEGIN:DAYLIGHT
TZOFFSETFROM:-0500
TZOFFSETTO:-0400
TZNAME:EDT
DTSTART:20260308T070000
END:DAYLIGHT
BEGIN:STANDARD
TZOFFSETFROM:-0400
TZOFFSETTO:-0500
TZNAME:EST
DTSTART:20261101T060000
END:STANDARD
BEGIN:DAYLIGHT
TZOFFSETFROM:-0500
TZOFFSETTO:-0400
TZNAME:EDT
DTSTART:20270314T070000
END:DAYLIGHT
BEGIN:STANDARD
TZOFFSETFROM:-0400
TZOFFSETTO:-0500
TZNAME:EST
DTSTART:20271107T060000
END:STANDARD
END:VTIMEZONE
BEGIN:VEVENT
DTSTART;TZID=America/Toronto:20260501T110000
DTEND;TZID=America/Toronto:20260501T120000
DTSTAMP:20260420T062533
CREATED:20260408T134019Z
LAST-MODIFIED:20260408T134019Z
UID:10000401-1777633200-1777636800@wp.villacharities.com
SUMMARY:Friday Chats with our CEO\, Marco DeVuono
DESCRIPTION:You can have a meeting with Marco DeVuono\, President and CEO of Villa Charities Inc.\, for a one-on-one conversation to answer any questions or to share your thoughts on our programs and services.
URL:https://wp.villacharities.com/events/friday-chats-with-our-ceo-marco-devuono/
LOCATION:Ontario
END:VEVENT
BEGIN:VEVENT
DTSTART;TZID=America/Toronto:20260501T190000
DTEND;TZID=America/Toronto:20260501T213000
DTSTAMP:20260420T062533
CREATED:20260415T152742Z
LAST-MODIFIED:20260415T153304Z
UID:10000415-1777662000-1777671000@wp.villacharities.com
SUMMARY:Librissimi 2026 Opening Night: Lifetime Achievement Award Presentation
DESCRIPTION:Celebrate excellence in Italian Canadian literary arts as the 2026 Lifetime Achievement Award is presented to Joseph Pivato on the opening night of the literary festival.
URL:https://wp.villacharities.com/events/librissimi-2026-opening-night-lifetime-achievement-award-presentation/
LOCATION:Joseph D. Carrier Art Gallery\, Columbus Centre\, 901 Lawrence Ave W\, Toronto\, Ontario\, M6A 1C3\, Canada
END:VEVENT
END:VCALENDAR